BEGIN:VCALENDAR
VERSION:2.0
PRODID:-//ChamberMaster//Event Calendar 2.0//EN
METHOD:PUBLISH
X-PUBLISHED-TTL:P3D
REFRESH-INTERVAL:P3D
CALSCALE:GREGORIAN
BEGIN:VEVENT
DTSTART;VALUE=DATE:20191228
DTEND;VALUE=DATE:20191229
TRANSP:TRANSPARENT
X-MICROSOFT-CDO-ALLDAYEVENT:TRUE
SUMMARY:Angry Horse-First Time Home Buyers Class
DESCRIPTION:Angry Horse Brewing presents Patrick Gleason's KW-Keller Williams Hops & Home "First Time Buyers Class  4th Saturday of the month!! \n\nSample beer and start your home buying journey!
X-ALT-DESC;FMTTYPE=text/html:Angry Horse Brewing presents Patrick Gleason&#39\;s KW-Keller Williams Hops &amp\; Home &quot\;First Time Buyers Class&nbsp\; 4th Saturday of the month!!&nbsp\;<br />\nSample beer and start your home buying journey!<br />\n&nbsp\;
LOCATION:Angry Horse Brewing 603 W. Whittier Blvd. Montebello\, CA 90640
UID:e.1156.3406
SEQUENCE:3
DTSTAMP:20260419T130434Z
URL:https://www.montebellochamber.org/events/details/angry-horse-first-time-home-buyers-class-3406
END:VEVENT

END:VCALENDAR
