BEGIN:VCALENDAR
VERSION:2.0
PRODID:-//ChamberMaster//Event Calendar 2.0//EN
METHOD:PUBLISH
X-PUBLISHED-TTL:P3D
REFRESH-INTERVAL:P3D
CALSCALE:GREGORIAN
BEGIN:VEVENT
DTSTART:20181208T183000Z
DTEND:20181208T193000Z
X-MICROSOFT-CDO-ALLDAYEVENT:FALSE
SUMMARY:Angry Horse Fitness Club
DESCRIPTION:Angry Horse Fitness Club\n\nBoot Camp with Kristen Perez\n\n\n\nJoin us this Sat.\, Dec. 8th for our first boot cmap workout with bikini pro and health coach\, Kristen Perez.  She will be bringing us a fun and fresh boot camp focusing on exercises and techniques you can do anywhere.  All fitness levels and ages are welcome! \n\n\n\nSign up to reserve your spot by leaving a comment below.  The boot camp is free!  Bring your sneakers\, your water bottle and a towel if you need it.\n\nWe'll be in the @angryhorsebrewing parking lot.  See you there.\n\n#ahbfitnessclub
X-ALT-DESC;FMTTYPE=text/html:Angry Horse Fitness Club<br />\nBoot Camp with Kristen Perez<br />\n<br />\nJoin us this Sat.\, Dec. 8th for our first boot cmap workout with bikini pro and health coach\, Kristen Perez.&nbsp\; She will be bringing us a fun and fresh boot camp focusing on exercises and techniques you can do anywhere.&nbsp\; All fitness levels and ages are welcome!&nbsp\;<br />\n<br />\nSign up to reserve your spot by leaving a comment below.&nbsp\; The boot camp is free!&nbsp\; Bring your sneakers\, your water bottle and a towel if you need it.<br />\nWe&#39\;ll be in the @angryhorsebrewing parking lot.&nbsp\; See you there.<br />\n#ahbfitnessclub<br />\n&nbsp\;
LOCATION:Angry Horse Brewing 603 W. Whittier Blvd. Montebello\, CA 90640
UID:e.1156.3126
SEQUENCE:3
DTSTAMP:20260419T160845Z
URL:https://www.montebellochamber.org/events/details/angry-horse-fitness-club-3126
END:VEVENT

END:VCALENDAR
