BEGIN:VCALENDAR
VERSION:2.0
PRODID:-//ChamberMaster//Event Calendar 2.0//EN
METHOD:PUBLISH
X-PUBLISHED-TTL:P3D
REFRESH-INTERVAL:P3D
CALSCALE:GREGORIAN
BEGIN:VEVENT
DTSTART:20181205T190000Z
DTEND:20181205T220000Z
X-MICROSOFT-CDO-ALLDAYEVENT:FALSE
SUMMARY:Annual Holiday Toy Drive & Lunch
DESCRIPTION:Annual Police Department Holiday Lunch and Toy Drive\nHosted by Police Chief Brad Keller\n\nAll toys that are collected will be donated to "Christmas at the Cannon" \n\nAll proceeds benefit Montebello Police Explorers\n\nBuffet Sponsor by John Rio\, Rios Pizza
X-ALT-DESC;FMTTYPE=text/html:<strong><span style="font-size:14px\;"><span style="color: rgb(51\, 51\, 51)\; font-family: sans-serif\, Arial\, Verdana\, &quot\;Trebuchet MS&quot\;\; background-color: rgb(255\, 255\, 255)\;">Annual Police Department Holiday Lunch and Toy Drive</span></span></strong>\n<div><strong><span style="font-size:14px\;"><span style="color: rgb(51\, 51\, 51)\; font-family: sans-serif\, Arial\, Verdana\, &quot\;Trebuchet MS&quot\;\; background-color: rgb(255\, 255\, 255)\;">Hosted by Police Chief Brad Keller</span></span></strong></div>\n\n<div>All toys that are collected will be donated to &quot\;Christmas at the Cannon&quot\;&nbsp\;<br />\nAll proceeds benefit Montebello Police Explorers<br />\nBuffet Sponsor by John Rio\,&nbsp\;Rios Pizza&nbsp\;</div>\n
LOCATION:Montebello Senior Center (Upstairs) 115 S. Taylor Ave. Montebello\, CA 90640
UID:e.1156.2571
SEQUENCE:3
DTSTAMP:20260419T160245Z
URL:https://www.montebellochamber.org/events/details/annual-holiday-toy-drive-lunch-2571
END:VEVENT

END:VCALENDAR
