BEGIN:VCALENDAR
VERSION:2.0
PRODID:-//ChamberMaster//Event Calendar 2.0//EN
METHOD:PUBLISH
X-PUBLISHED-TTL:P3D
REFRESH-INTERVAL:P3D
CALSCALE:GREGORIAN
BEGIN:VEVENT
DTSTART;VALUE=DATE:20120512
DTEND;VALUE=DATE:20120513
TRANSP:TRANSPARENT
X-MICROSOFT-CDO-ALLDAYEVENT:TRUE
SUMMARY:Armenian Food Fair & Fest
DESCRIPTION:Celebrate Mother's Day Weekend at the 2012 Armenian Food Fair & Fest!\n\nDelicious Armenian Food & Pastry\, Live Entertainment\, Dancing\, Performances\, Kids Fun Zone\, Backgammon Tournament\, 'Hye Chef' Competition\, Cathedral Tours\, Cultural Area\, Shopping and Much More!! Don't miss it!\n\nFollow us on Facebook and Twitter for Announcements or visit ArmenianFoodFair.com\n\n\n\nAFF Fest Grand Sponsor - Nationwide Environmental Services
X-ALT-DESC;FMTTYPE=text/html:Celebrate Mother&#39\;s Day Weekend at the 2012 Armenian Food Fair &amp\; Fest!<br />\nDelicious Armenian Food &amp\; Pastry\, Live Entertainment\, Dancing\, Performances\, Kids Fun Zone\, Backgammon Tournament\, &#39\;Hye Chef&#39\; Competition\, Cathedral Tours\, Cultural Area\, Shopping and Much More!! Don&#39\;t miss it!<br />\nFollow us on Facebook and Twitter for Announcements or visit ArmenianFoodFair.com<br />\n<br />\nAFF Fest Grand Sponsor - Nationwide Environmental Services&nbsp\;
LOCATION:Holy Cross Cathedral Grounds\, 900 West Lincoln Ave\, Montebello\, CA 90640
UID:e.1156.421
SEQUENCE:3
DTSTAMP:20260420T084409Z
URL:https://www.montebellochamber.org/events/details/armenian-food-fair-fest-05-12-2012-421
END:VEVENT

END:VCALENDAR
