BEGIN:VCALENDAR
VERSION:2.0
PRODID:-//ChamberMaster//Event Calendar 2.0//EN
METHOD:PUBLISH
X-PUBLISHED-TTL:P3D
REFRESH-INTERVAL:P3D
CALSCALE:GREGORIAN
BEGIN:VEVENT
DTSTART:20191109T023000Z
DTEND:20191109T023000Z
X-MICROSOFT-CDO-ALLDAYEVENT:FALSE
SUMMARY:ARS Thanksgiving Fundraiser for Armenian Mesrobian School
DESCRIPTION:ARS Nairy Chapter presents its Annual Thanksgiving Dinner to benefit Armenian Mesrobian School!
X-ALT-DESC;FMTTYPE=text/html:ARS Nairy Chapter presents its Annual Thanksgiving Dinner to benefit Armenian Mesrobian School!&nbsp\;
LOCATION:Armenian Mesrobian School 8420 Beverly Road Pico Rivera\, CA 90660
UID:e.1156.3490
SEQUENCE:3
DTSTAMP:20260419T143619Z
URL:https://www.montebellochamber.org/events/details/ars-thanksgiving-fundraiser-for-armenian-mesrobian-school-3490
END:VEVENT

END:VCALENDAR
