BEGIN:VCALENDAR
VERSION:2.0
PRODID:-//ChamberMaster//Event Calendar 2.0//EN
METHOD:PUBLISH
X-PUBLISHED-TTL:P3D
REFRESH-INTERVAL:P3D
CALSCALE:GREGORIAN
BEGIN:VEVENT
DTSTART:20121112T010000Z
DTEND:20121112T040000Z
X-MICROSOFT-CDO-ALLDAYEVENT:FALSE
SUMMARY:Art show at Antigua Latin Bistro
DESCRIPTION:
X-ALT-DESC;FMTTYPE=text/html:
LOCATION:116 E. Beverly Blvd. Montebello Ca 90640
UID:e.1156.667
SEQUENCE:3
DTSTAMP:20260419T214731Z
URL:https://www.montebellochamber.org/events/details/art-show-at-antigua-latin-bistro-11-11-2012-667
END:VEVENT

END:VCALENDAR
