BEGIN:VCALENDAR
VERSION:2.0
PRODID:-//ChamberMaster//Event Calendar 2.0//EN
METHOD:PUBLISH
X-PUBLISHED-TTL:P3D
REFRESH-INTERVAL:P3D
CALSCALE:GREGORIAN
BEGIN:VEVENT
DTSTART:20190202T190000Z
DTEND:20190202T220000Z
X-MICROSOFT-CDO-ALLDAYEVENT:FALSE
SUMMARY:Assemblymember Cristina Garcia Swearing In Ceremony
DESCRIPTION:Assemblymember Cristina Garcia Swearing-In Ceremony and Pride 58 Community Celebration\n\n\n\nThis event will recognize outstanding community members who have received Pride58 awards in the past\, and Assemblywoman Garcia will be sworn in for a new term in office. There will\n\nbe live entertainment\, food\, and refreshments. The event is free and open to the public.  Please bring boxed tampons\, pads\, packaged underwear\, and toiletries to be donated to groups who work with homeless populations in the 58th district.
X-ALT-DESC;FMTTYPE=text/html:<span style="font-family:arial\,sans-serif\;"><span style="font-size:11.0pt\;">Assemblymember Cristina Garcia Swearing-In Ceremony and Pride 58 Community Celebration</span><br />\n<br />\nThis event will recognize outstanding community members who have received Pride58 awards in the past\, and Assemblywoman Garcia will be sworn in for a new term in office. There will<br />\nbe live entertainment\, food\, and refreshments. The event is free and open to the public.&nbsp\; Please bring boxed tampons\, pads\, packaged underwear\, and toiletries to be donated to groups who work with homeless populations in the 58<sup>th</sup> district. </span><br />\n<br />\n&nbsp\;
LOCATION:Downey Adult School - Auditorium 12340 Woodruff Ave. Downey\, CA 90241
UID:e.1156.3134
SEQUENCE:3
DTSTAMP:20260419T130701Z
URL:https://www.montebellochamber.org/events/details/assemblymember-cristina-garcia-swearing-in-ceremony-3134
END:VEVENT

END:VCALENDAR
