BEGIN:VCALENDAR
VERSION:2.0
PRODID:-//ChamberMaster//Event Calendar 2.0//EN
METHOD:PUBLISH
X-PUBLISHED-TTL:P3D
REFRESH-INTERVAL:P3D
CALSCALE:GREGORIAN
BEGIN:VEVENT
DTSTART:20180603T183000Z
DTEND:20180603T223000Z
X-MICROSOFT-CDO-ALLDAYEVENT:FALSE
SUMMARY:Autism Wine Event
DESCRIPTION:13th Annual Autism Wine Event\n\n\n\n100% of proceeds go to local families impacted by autisim!\n\n\n\nJoin us at the Chart House for a 4-course gourmet meal with fabulous wines! Panoramic ocean views\, live music by Retrofit and entertainment by Karmic Comedy.
X-ALT-DESC;FMTTYPE=text/html:13th Annual Autism Wine Event<br />\n<br />\n100% of proceeds go to local families impacted by autisim!<br />\n<br />\nJoin us at the Chart House for a 4-course gourmet meal with fabulous wines! Panoramic ocean views\, live music by Retrofit and entertainment by Karmic Comedy.&nbsp\;
LOCATION:Chart House 231 Yacht Club Way Redondo Beach\, CA 90277
UID:e.1156.2577
SEQUENCE:3
DTSTAMP:20260419T184239Z
URL:https://www.montebellochamber.org/events/details/autism-wine-event-2577
END:VEVENT

END:VCALENDAR
