BEGIN:VCALENDAR
VERSION:2.0
PRODID:-//ChamberMaster//Event Calendar 2.0//EN
METHOD:PUBLISH
X-PUBLISHED-TTL:P3D
REFRESH-INTERVAL:P3D
CALSCALE:GREGORIAN
BEGIN:VEVENT
DTSTART:20190321T023000Z
DTEND:20190321T023000Z
X-MICROSOFT-CDO-ALLDAYEVENT:FALSE
SUMMARY:Bachata Night
DESCRIPTION:Stevens SteakHouse presents Bachata Heightz...Live Bachata Concert! \n\nDJ Soonaasty in the 100% Bachata Roo! (Full Ballroom) DJ Luis Pachanga in the Salsa Lounge!
X-ALT-DESC;FMTTYPE=text/html:Stevens SteakHouse presents Bachata Heightz...Live Bachata Concert!&nbsp\;<br />\nDJ Soonaasty in the 100% Bachata Roo! (Full Ballroom) DJ Luis Pachanga in the Salsa Lounge!&nbsp\;&nbsp\;
LOCATION:Steven SteakHouse 5332 Stevens Place Commerce\, CA 90040
UID:e.1156.3269
SEQUENCE:3
DTSTAMP:20260420T142528Z
URL:https://www.montebellochamber.org/events/details/bachata-night-3269
END:VEVENT

END:VCALENDAR
