BEGIN:VCALENDAR
VERSION:2.0
PRODID:-//ChamberMaster//Event Calendar 2.0//EN
METHOD:PUBLISH
X-PUBLISHED-TTL:P3D
REFRESH-INTERVAL:P3D
CALSCALE:GREGORIAN
BEGIN:VEVENT
DTSTART:20190810T190000Z
DTEND:20190810T210000Z
X-MICROSOFT-CDO-ALLDAYEVENT:FALSE
SUMMARY:Back to School Extravaganza
DESCRIPTION:The Shops at Montebello presents Back to School Extravaganza on Saturday\, August 10\, 2019 from 12-2pm in Center Court featuring Fall looks\, mini hairstyling sessions by InStyle Salon\, Sephora Beauty bar & photo op\, JCPenney school portraits\, live DJ\, school performances\, laptop & backpack giveaways and spin wheel for supplies.  The first 100 people will receive a FREE bag filled with school supplies and special offers! While supplies last. Certain restrictions apply.
X-ALT-DESC;FMTTYPE=text/html:<span style="font-family:-apple-system\,system-ui\,\;"><span style="color:#183247\;">The Shops at Montebello presents Back to School Extravaganza on Saturday\, August 10\, 2019 from 12-2pm in Center Court featuring Fall looks\, mini hairstyling sessions by InStyle Salon\, Sephora Beauty bar &amp\; photo op\, JCPenney school portraits\, live DJ\, school performances\, laptop &amp\; backpack giveaways and spin wheel for supplies.&nbsp\;&nbsp\;</span></span><strong>The first <span style="font-family:calibri\,sans-serif\;">100 people</span> will receive a <span style="font-family:calibri\,sans-serif\;">FREE</span> bag filled with school supplies and special offers! While supplies last. Certain restrictions apply.&nbsp\;&nbsp\;</strong><br />\n&nbsp\;
LOCATION:The Shops at Montebello 2134 Montebello Town Ctr Montebello\, CA 90640
UID:e.1156.3395
SEQUENCE:3
DTSTAMP:20260419T130128Z
URL:https://www.montebellochamber.org/events/details/back-to-school-extravaganza-3395
END:VEVENT

END:VCALENDAR
