BEGIN:VCALENDAR
VERSION:2.0
PRODID:-//ChamberMaster//Event Calendar 2.0//EN
METHOD:PUBLISH
X-PUBLISHED-TTL:P3D
REFRESH-INTERVAL:P3D
CALSCALE:GREGORIAN
BEGIN:VEVENT
DTSTART:20140807T003000Z
DTEND:20140807T023000Z
X-MICROSOFT-CDO-ALLDAYEVENT:FALSE
SUMMARY:Bank of Manhattan Client & Community Appreciation Day
DESCRIPTION:Please join us on August 6 for Client and Community Appreciation Day\n\n\n\nStreet Tacos\n\nChurros\n\nMargarita\n\nand Music
X-ALT-DESC;FMTTYPE=text/html:Please join us on August 6 for Client and Community Appreciation Day<br />\n<br />\nStreet Tacos<br />\nChurros<br />\nMargarita<br />\nand Music
LOCATION:Bank of Manhattan Montebello Branch 2417 W. Whittier Blvd\, Montebello
UID:e.1156.1015
SEQUENCE:3
DTSTAMP:20260419T114733Z
URL:https://www.montebellochamber.org/events/details/bank-of-manhattan-client-community-appreciation-day-08-06-2014-1015
END:VEVENT

END:VCALENDAR
