BEGIN:VCALENDAR
VERSION:2.0
PRODID:-//ChamberMaster//Event Calendar 2.0//EN
METHOD:PUBLISH
X-PUBLISHED-TTL:P3D
REFRESH-INTERVAL:P3D
CALSCALE:GREGORIAN
BEGIN:VEVENT
DTSTART:20180310T200000Z
DTEND:20180310T230000Z
X-MICROSOFT-CDO-ALLDAYEVENT:FALSE
SUMMARY:Baseball Day Meet Marge Villa
DESCRIPTION:Come meet Montebello's Baseball Hall of Famer\, Marge Villa\, who played for the Kenosha Comets of the All American Girls Professional Baseball League from 1946-1950. If you seen the 1992 movie "A League Of Their Own\," Marge was a technical advisor. Poncho will talk baseball and sign free autographs. \n\nEvent and parking is free. Rain or Shine.
X-ALT-DESC;FMTTYPE=text/html:<span style="color: rgb(75\, 79\, 86)\; font-family: Helvetica\, Arial\, sans-serif\; font-size: 14px\;">Come meet Montebello&#39\;s Baseball Hall of Famer\, Marge Villa\, who played for the Kenosha Comets of the All American Girls Professional Baseball League from 1946-1950. If you seen the 1992 movie &quot\;A League Of Their Own\,&quot\; Marge was a technical advisor. Poncho will talk baseball and sign free autographs.&nbsp\;</span><br style="color: rgb(75\, 79\, 86)\; font-family: Helvetica\, Arial\, sans-serif\; font-size: 14px\;" />\n<span style="color: rgb(75\, 79\, 86)\; font-family: Helvetica\, Arial\, sans-serif\; font-size: 14px\;">Event and parking is free. Rain or Shine.</span>
LOCATION:Juan Matias Sanchez Adobe 946 Adobe Ave. Montebello\, CA 90640
UID:e.1156.2488
SEQUENCE:3
DTSTAMP:20260419T143155Z
URL:https://www.montebellochamber.org/events/details/baseball-day-meet-marge-villa-2488
END:VEVENT

END:VCALENDAR
