BEGIN:VCALENDAR
VERSION:2.0
PRODID:-//ChamberMaster//Event Calendar 2.0//EN
METHOD:PUBLISH
X-PUBLISHED-TTL:P3D
REFRESH-INTERVAL:P3D
CALSCALE:GREGORIAN
BEGIN:VEVENT
DTSTART:20190105T190000Z
DTEND:20190106T000000Z
X-MICROSOFT-CDO-ALLDAYEVENT:FALSE
SUMMARY:Battle of Rio San Gabriel Reenactment
DESCRIPTION:Presented by the Montebello Historical Society...Living history period music & vintage dancers.  Audience participation Fandango dancing.  Uniformed American & Californio reanactors.  Experience the smell of the black powder from the musket firing demonstrations!
X-ALT-DESC;FMTTYPE=text/html:Presented by the Montebello Historical Society...Living history period music &amp\; vintage dancers.&nbsp\; Audience participation Fandango dancing.&nbsp\; Uniformed American &amp\; Californio reanactors.&nbsp\; Experience the smell of the black powder from the musket firing demonstrations!
LOCATION:The Juan Matias Sanchez Adobe Museum 946 N. Adobe Ave Montebello\, CA 90640
UID:e.1156.3132
SEQUENCE:3
DTSTAMP:20260419T160244Z
URL:https://www.montebellochamber.org/events/details/battle-of-rio-san-gabriel-reenactment-3132
END:VEVENT

END:VCALENDAR
