BEGIN:VCALENDAR
VERSION:2.0
PRODID:-//ChamberMaster//Event Calendar 2.0//EN
METHOD:PUBLISH
X-PUBLISHED-TTL:P3D
REFRESH-INTERVAL:P3D
CALSCALE:GREGORIAN
BEGIN:VEVENT
DTSTART:20200111T190000Z
DTEND:20200112T000000Z
X-MICROSOFT-CDO-ALLDAYEVENT:FALSE
SUMMARY:Battle of Rio San Gabriel Reenactment
DESCRIPTION:Witness this reenanctment of the historical Battle of Rio San Gabriel in 1847 performed by reenactment actors on the grounds of the Juan Matias Sanchez Adobe Museum!
X-ALT-DESC;FMTTYPE=text/html:Witness this reenanctment of the historical Battle of Rio San Gabriel in 1847 performed by reenactment actors on the grounds of the Juan Matias Sanchez Adobe Museum!
LOCATION:Juan Matias Sanchez Adobe Museum 946 N. Adobe Ave. Montebello\, CA 90640
UID:e.1156.3546
SEQUENCE:3
DTSTAMP:20260419T130530Z
URL:https://www.montebellochamber.org/events/details/battle-of-rio-san-gabriel-reenactment-3546
END:VEVENT

END:VCALENDAR
