BEGIN:VCALENDAR
VERSION:2.0
PRODID:-//ChamberMaster//Event Calendar 2.0//EN
METHOD:PUBLISH
X-PUBLISHED-TTL:P3D
REFRESH-INTERVAL:P3D
CALSCALE:GREGORIAN
BEGIN:VEVENT
DTSTART;VALUE=DATE:20180323
DTEND;VALUE=DATE:20180325
TRANSP:TRANSPARENT
X-MICROSOFT-CDO-ALLDAYEVENT:TRUE
SUMMARY:Beauty & the Beast
DESCRIPTION:Cantwell-Sacred Heart of Mary High School Theatre presents\n\n\n\nBeauty & the Beast - The Broadway Musical\n\n\n\nDirected by Ms. Whitney Tenney Pak\n\nMusical Direction by Mr. Ryan Pest
X-ALT-DESC;FMTTYPE=text/html:Cantwell-Sacred Heart of Mary High School Theatre presents<br />\n<br />\nBeauty &amp\; the Beast - The Broadway Musical<br />\n<br />\nDirected by Ms. Whitney Tenney Pak<br />\nMusical Direction by Mr. Ryan Pest
LOCATION:329 N. Garfield Ave. Montebello\, CA 90640
UID:e.1156.2510
SEQUENCE:3
DTSTAMP:20260419T130221Z
URL:https://www.montebellochamber.org/events/details/beauty-the-beast-2510
END:VEVENT

END:VCALENDAR
