BEGIN:VCALENDAR
VERSION:2.0
PRODID:-//ChamberMaster//Event Calendar 2.0//EN
METHOD:PUBLISH
X-PUBLISHED-TTL:P3D
REFRESH-INTERVAL:P3D
CALSCALE:GREGORIAN
BEGIN:VEVENT
DTSTART:20190219T150000Z
DTEND:20190220T030000Z
X-MICROSOFT-CDO-ALLDAYEVENT:FALSE
SUMMARY:Beverly Hospital Community Blood Drive
DESCRIPTION:Did you know that one pint of blood can save up to 3 lives?  In collaboration with the American Red Cross\, join us for our quarterly blood drive.  You can pre-register by calling in or scheduling online.  Unsure of your availability for the day?  No problem!  We accept walk-ins as well.
X-ALT-DESC;FMTTYPE=text/html:Did you know that one pint of blood can save up to 3 lives?&nbsp\; In collaboration with the American Red Cross\, join us for our quarterly blood drive.&nbsp\; You can pre-register by calling in or scheduling online.&nbsp\; Unsure of your availability for the day?&nbsp\; No problem!&nbsp\; We accept walk-ins as well.&nbsp\;
LOCATION:Beverly Hospital (Tower Basemont Rooms) 309 W. Beverly Blvd. Montebello\, CA 90640
UID:e.1156.3232
SEQUENCE:3
DTSTAMP:20260419T103805Z
URL:https://www.montebellochamber.org/events/details/beverly-hospital-community-blood-drive-3232
END:VEVENT

END:VCALENDAR
