BEGIN:VCALENDAR
VERSION:2.0
PRODID:-//ChamberMaster//Event Calendar 2.0//EN
METHOD:PUBLISH
X-PUBLISHED-TTL:P3D
REFRESH-INTERVAL:P3D
CALSCALE:GREGORIAN
BEGIN:VEVENT
DTSTART:20181029T150000Z
DTEND:20181030T000000Z
X-MICROSOFT-CDO-ALLDAYEVENT:FALSE
SUMMARY:Beverly Hospital Foundation Golf Classic
DESCRIPTION:Beverly Hospital Foundation Golf Classic
X-ALT-DESC;FMTTYPE=text/html:Beverly Hospital Foundation Golf Classic&nbsp\;
LOCATION:Friendly Hills Country Club 8500 Villaverde Drive Whittier\, CA
UID:e.1156.2878
SEQUENCE:3
DTSTAMP:20260419T185216Z
URL:https://www.montebellochamber.org/events/details/beverly-hospital-foundation-golf-classic-2878
END:VEVENT

END:VCALENDAR
