BEGIN:VCALENDAR
VERSION:2.0
PRODID:-//ChamberMaster//Event Calendar 2.0//EN
METHOD:PUBLISH
X-PUBLISHED-TTL:P3D
REFRESH-INTERVAL:P3D
CALSCALE:GREGORIAN
BEGIN:VEVENT
DTSTART:20180506T003000Z
DTEND:20180506T060000Z
X-MICROSOFT-CDO-ALLDAYEVENT:FALSE
SUMMARY:Beverly Hospital Foundation Paradise Ball 2018
DESCRIPTION:Beverly Hospital Foundation Paradise Ball\n\n	Cocktail Reception\n	Entertainment\, Awards & More\n	Silent & Live Auctions
X-ALT-DESC;FMTTYPE=text/html:Beverly Hospital Foundation Paradise Ball\n<ul>\n	<li>Cocktail Reception</li>\n	<li>Entertainment\, Awards &amp\; More</li>\n	<li>Silent &amp\; Live Auctions</li>\n</ul>\n
LOCATION:Pacific Palms Resort Industry Majestic Ballroom
UID:e.1156.2478
SEQUENCE:3
DTSTAMP:20260419T160317Z
URL:https://www.montebellochamber.org/events/details/beverly-hospital-foundation-paradise-ball-2018-2478
END:VEVENT

END:VCALENDAR
