BEGIN:VCALENDAR
VERSION:2.0
PRODID:-//ChamberMaster//Event Calendar 2.0//EN
METHOD:PUBLISH
X-PUBLISHED-TTL:P3D
REFRESH-INTERVAL:P3D
CALSCALE:GREGORIAN
BEGIN:VEVENT
DTSTART:20140307T010000Z
DTEND:20140307T030000Z
X-MICROSOFT-CDO-ALLDAYEVENT:FALSE
SUMMARY:Beverly Hospital Healthgrades Trophy Presentation
DESCRIPTION:Beverly Hospital celebrates Healthgrades Trophy Presentation Mixer\n\n\n\n\n	Beverly Hospital has achieved the 2013 Women's Health Excellence Award \, 2013 Coronary Intervention Excellence Award \, and 2013 General Surgery Excellence Award  according to Healthgrades\, the leading online resource that helps consumers search\, evaluate\, compare and connect with physician and hospitals. This recognition distinguishes Beverly Hospital as a top performing hospital. \n\n	Take this opportunity to celebrate excellence in our community by building relationships with professionals in our community.
X-ALT-DESC;FMTTYPE=text/html:<span style="font-family:tahoma\;"><strong><span style="font-size: 12px\;">Beverly Hospital celebrates Healthgrades Trophy Presentation</span> Mixer</strong></span><br />\n<br />\n<p>\n	<span style="font-size:12px\;"><span style="font-family: tahoma\;">Beverly Hospital has achieved the 2013 Women&rsquo\;s Health Excellence Award&trade\;\, 2013 Coronary Intervention Excellence Award&trade\;\, and 2013 General Surgery Excellence Award&trade\; according to Healthgrades\, the leading online resource that helps consumers search\, evaluate\, compare and connect with physician and hospitals. This recognition distinguishes Beverly Hospital as a top performing hospital.&nbsp\;</span></span></p>\n<p>\n	<span style="font-family:tahoma\;"><span style="font-size: 12px\;">Take this opportunity to celebrate excellence in our community by building relationships with professionals in our community.</span></span></p>\n
LOCATION:Beverly Hospital- Tower Basement Conference Rooms 309 W. Beverly Blvd. Montebello\, CA 90640
UID:e.1156.984
SEQUENCE:3
DTSTAMP:20260419T173811Z
URL:https://www.montebellochamber.org/events/details/beverly-hospital-healthgrades-trophy-presentation-03-06-2014-984
END:VEVENT

END:VCALENDAR
