BEGIN:VCALENDAR
VERSION:2.0
PRODID:-//ChamberMaster//Event Calendar 2.0//EN
METHOD:PUBLISH
X-PUBLISHED-TTL:P3D
REFRESH-INTERVAL:P3D
CALSCALE:GREGORIAN
BEGIN:VEVENT
DTSTART:20200131T180000Z
DTEND:20200131T180000Z
X-MICROSOFT-CDO-ALLDAYEVENT:FALSE
SUMMARY:Beverly Hospital-Naming Celebration-Emergency Care Center
DESCRIPTION:Join us for the naming ceremony of Beverly Hospital's expanded Emergency Care Center in honor of Mr. Joseph L. & Dr. Helen C. Koo for their generous contributions to Beverly Hospital.
X-ALT-DESC;FMTTYPE=text/html:Join us for the naming ceremony of Beverly Hospital&#39\;s expanded Emergency Care Center in honor of Mr. Joseph L. &amp\; Dr. Helen C. Koo for their generous contributions to Beverly Hospital.
LOCATION:Beverly Hospital 309 W. Beverly Blvd. Montebello\, CA 90640
UID:e.1156.3588
SEQUENCE:3
DTSTAMP:20260419T130627Z
URL:https://www.montebellochamber.org/events/details/beverly-hospital-naming-celebration-emergency-care-center-3588
END:VEVENT

END:VCALENDAR
