BEGIN:VCALENDAR
VERSION:2.0
PRODID:-//ChamberMaster//Event Calendar 2.0//EN
METHOD:PUBLISH
X-PUBLISHED-TTL:P3D
REFRESH-INTERVAL:P3D
CALSCALE:GREGORIAN
BEGIN:VEVENT
DTSTART:20181031T160000Z
DTEND:20181031T210000Z
X-MICROSOFT-CDO-ALLDAYEVENT:FALSE
SUMMARY:Farmers' Market at Beverly Hospital
DESCRIPTION:Beverly Hospital Weekly Farmers' Market on Wednesdays
X-ALT-DESC;FMTTYPE=text/html:Beverly Hospital Weekly Farmers&#39\; Market on Wednesdays&nbsp\;
LOCATION:309 W Beverly Blvd. Montebello\, CA 90640 Beverly Guild House Parking Lot (Harding/1st)
UID:e.1156.2892
SEQUENCE:3
DTSTAMP:20260419T190658Z
URL:https://www.montebellochamber.org/events/details/beverly-hospital-weekly-farmers-market-on-wednesdays-10-31-2018-2892
END:VEVENT

END:VCALENDAR
