BEGIN:VCALENDAR
VERSION:2.0
PRODID:-//ChamberMaster//Event Calendar 2.0//EN
METHOD:PUBLISH
X-PUBLISHED-TTL:P3D
REFRESH-INTERVAL:P3D
CALSCALE:GREGORIAN
BEGIN:VEVENT
DTSTART:20120413T000000Z
DTEND:20120413T030000Z
X-MICROSOFT-CDO-ALLDAYEVENT:FALSE
SUMMARY:Beyond 9 to 5 Business Mixer
DESCRIPTION:Chamber members are invited to come for hors d'oeuvres\, refreshments\, and an opportunity to network with members of FIVE different Chambers of Commerce from the Greater Los Angeles area. The opportunities are immeasurable. Members are more than welcome to bring materials such as brochures\, flyers\, business cards and anything you can carry. Bring your business partner or colleague to power network the event together.\n\n	\n\n	Participating Chambers include Montebello\, Bell Gardens\, Pico Rivera\, Santa Fe Springs and Commerce Industrial Council!\n\n	\n\n	Remember...Building Relationships\, Builds Business!
X-ALT-DESC;FMTTYPE=text/html:<p>\n	Chamber members are invited to come for hors d&rsquo\;oeuvres\, refreshments\, and an opportunity to network with members of FIVE different Chambers of Commerce from the Greater Los Angeles area. The opportunities are immeasurable. Members are more than welcome to bring materials such as brochures\, flyers\, business cards and anything you can carry. Bring your business partner or colleague to power network the event together.<br />\n	<br />\n	Participating Chambers include Montebello\, Bell Gardens\, Pico Rivera\, Santa Fe Springs and Commerce Industrial Council!<br />\n	<br />\n	Remember...Building Relationships\, Builds Business!<br />\n	<span _fck_bookmark="1" style="display: none">&nbsp\;</span><br />\n	<span class="text_exposed_show"><span _fck_bookmark="1" style="display: none">&nbsp\;</span></span></p>\n
LOCATION:HOSTED BY: Crowne Plaza Hotel at Commerce Casino 6121 E. Telegraph Rd. Commerce\, CA 90040
UID:e.1156.426
SEQUENCE:3
DTSTAMP:20260420T095728Z
URL:https://www.montebellochamber.org/events/details/beyond-9-to-5-business-mixer-04-12-2012-426
END:VEVENT

END:VCALENDAR
