BEGIN:VCALENDAR
VERSION:2.0
PRODID:-//ChamberMaster//Event Calendar 2.0//EN
METHOD:PUBLISH
X-PUBLISHED-TTL:P3D
REFRESH-INTERVAL:P3D
CALSCALE:GREGORIAN
BEGIN:VEVENT
DTSTART:20130419T000000Z
DTEND:20130419T020000Z
X-MICROSOFT-CDO-ALLDAYEVENT:FALSE
SUMMARY:Beyond 9 to 5 Networking Mixer
DESCRIPTION:Beyond 9 to 5 Networking Mixer\n\nNetwork with us after hours at our local restaurant Rudy's Baja Grill!\n\nBuild your network and net-worth with business minded leaders just like you!\n\n\n\nNO COST TO ATTEND - FOOD - PRIZES - AND MUCH MORE!\n\n\n\nHosted by Montebello Chamber of Commerce & Rudy's Baja Grill
X-ALT-DESC;FMTTYPE=text/html:<strong>Beyond</strong> <strong>9 to 5</strong> <strong>Networking Mixer</strong><br />\nNetwork with us after hours at our local restaurant<strong> Rudy&#39\;s Baja Grill!</strong><br />\nBuild your network and net-worth with business minded leaders just like you!<br />\n<br />\n<strong><span style="color: rgb(0\, 128\, 0)\;">NO COST TO ATTEND - FOOD - PRIZES - AND MUCH MORE</span></strong>!<br />\n<br />\n<strong><span style="color: rgb(255\, 0\, 0)\;">Hosted by </span>Montebello Chamber of Commerce &amp\; Rudy&#39\;s Baja Grill</strong>
LOCATION:Rudy's Baja Grill 5226 E. Pomona Blvd. Los Angeles\, CA 90022
UID:e.1156.693
SEQUENCE:3
DTSTAMP:20260419T143157Z
URL:https://www.montebellochamber.org/events/details/beyond-9-to-5-networking-mixer-04-18-2013-693
END:VEVENT

END:VCALENDAR
