BEGIN:VCALENDAR
VERSION:2.0
PRODID:-//ChamberMaster//Event Calendar 2.0//EN
METHOD:PUBLISH
X-PUBLISHED-TTL:P3D
REFRESH-INTERVAL:P3D
CALSCALE:GREGORIAN
BEGIN:VEVENT
DTSTART:20130118T010000Z
DTEND:20130118T030000Z
X-MICROSOFT-CDO-ALLDAYEVENT:FALSE
SUMMARY:Beyond 9 To 5 Networking Mixer - Charley Brown's Restaurant
DESCRIPTION:Beyond 9 To 5 Networking Mixer\n\n	\n\n	Charley Brown's Restaurant - 909 San Gabriel Blvd.\, Rosemead\n\n	\n\n	Hosted by: TEAM Referral Network & Montebello Chamber of Commerce\n\n	\n\n	No Cost to Attend * Food * Prizes * And Much More!
X-ALT-DESC;FMTTYPE=text/html:<p>\n	<strong><span style="color: rgb(178\, 34\, 34)\;">Beyond</span> <span style="color: rgb(0\, 0\, 255)\;">9 To 5</span> <span style="color: rgb(0\, 128\, 0)\;">Networking Mixer</span><br />\n	<br />\n	Charley Brown&#39\;s Restaurant - 909 San Gabriel Blvd.\, Rosemead</strong></p>\n<p>\n	<br />\n	<strong><span style="color: rgb(178\, 34\, 34)\;">Hosted by:</span> TEAM Referral Network &amp\; Montebello Chamber of Commerce</strong><br />\n	<br />\n	<strong><span style="color: rgb(0\, 128\, 0)\;">No Cost to Attend * Food * Prizes * And Much More!</span></strong></p>\n
LOCATION:Charley Brown's Restaurant 909 San Gabriel Blvd.\, Rosemead\, CA 91770
UID:e.1156.676
SEQUENCE:3
DTSTAMP:20260419T202603Z
URL:https://www.montebellochamber.org/events/details/beyond-9-to-5-networking-mixer-charley-brown-s-restaurant-01-17-2013-676
END:VEVENT

END:VCALENDAR
