BEGIN:VCALENDAR
VERSION:2.0
PRODID:-//ChamberMaster//Event Calendar 2.0//EN
METHOD:PUBLISH
X-PUBLISHED-TTL:P3D
REFRESH-INTERVAL:P3D
CALSCALE:GREGORIAN
BEGIN:VEVENT
DTSTART:20180324T010000Z
DTEND:20180324T040000Z
X-MICROSOFT-CDO-ALLDAYEVENT:FALSE
SUMMARY:Black and Gold Gala
DESCRIPTION:Join Bosco Tech at their Black and Gold Gala\n\n\n\nHonorees: \n\n\n\nBro. John Rasor\, SB \n\nSalesian Honoree\n\n\n\nLt. Gen. (Ret.) John E. Rhodes MA'62 \n\nAlumni/Honoree\n\n\n\nMr. Paul Stroup \n\nFaculty Honoree\n\n\n\nMsgr. John Moretta \n\nSpecial Honoree\n\nCelebrating 50 years as an Archdiocesan priest
X-ALT-DESC;FMTTYPE=text/html:Join Bosco Tech at their&nbsp\;<strong>Black and Gold Gala</strong><br />\n<br />\nHonorees:&nbsp\;<br />\n<br />\nBro. John Rasor\, SB&nbsp\;<br />\n<em>Salesian Honoree</em><br />\n<br />\nLt. Gen. (Ret.) John E. Rhodes MA&#39\;62&nbsp\;<br />\n<em>Alumni/Honoree</em><br />\n<br />\nMr. Paul Stroup&nbsp\;<br />\n<em>Faculty Honoree</em><br />\n<br />\nMsgr. John Moretta&nbsp\;<br />\n<em>Special Honoree</em><br />\n<em>Celebrating 50 years as an Archdiocesan priest</em>
LOCATION:Millennium Biltmore Hotel Downtown Los Angeles\, CA
UID:e.1156.2440
SEQUENCE:3
DTSTAMP:20260419T130224Z
URL:https://www.montebellochamber.org/events/details/black-and-gold-gala-2440
END:VEVENT

END:VCALENDAR
