BEGIN:VCALENDAR
VERSION:2.0
PRODID:-//ChamberMaster//Event Calendar 2.0//EN
METHOD:PUBLISH
X-PUBLISHED-TTL:P3D
REFRESH-INTERVAL:P3D
CALSCALE:GREGORIAN
BEGIN:VEVENT
DTSTART:20181123T210000Z
DTEND:20181123T210000Z
X-MICROSOFT-CDO-ALLDAYEVENT:FALSE
SUMMARY:Black Friday Giveaways at The Shops at Montebello
DESCRIPTION:Join special guest Letty B from KIIS-FM as we kick off the holiday with 200 giveaways.  Be one of the the first 200 guests in line in Center Court at 1pm and receive a gift bag filled with a $5\, $10\, $20 or $50 retailer gift card plus other special surprises.  One lucky guest will walk away with a $500 Macy's gift card in their bag!
X-ALT-DESC;FMTTYPE=text/html:Join special guest Letty B from KIIS-FM as we kick off the holiday with 200 giveaways.&nbsp\; Be one of the the first 200 guests in line in Center Court at 1pm and receive a gift bag filled with a $5\, $10\, $20 or $50 retailer gift card plus other special surprises.&nbsp\; One lucky guest will walk away with a $500 Macy&#39\;s gift card in their bag!
LOCATION:2134 Montebello Town Center Montebello\, CA 90640
UID:e.1156.3117
SEQUENCE:3
DTSTAMP:20260419T185434Z
URL:https://www.montebellochamber.org/events/details/black-friday-giveaways-at-the-shops-at-montebello-3117
END:VEVENT

END:VCALENDAR
