BEGIN:VCALENDAR
VERSION:2.0
PRODID:-//ChamberMaster//Event Calendar 2.0//EN
METHOD:PUBLISH
X-PUBLISHED-TTL:P3D
REFRESH-INTERVAL:P3D
CALSCALE:GREGORIAN
BEGIN:VEVENT
DTSTART:20191129T210000Z
DTEND:20191129T230000Z
X-MICROSOFT-CDO-ALLDAYEVENT:FALSE
SUMMARY:Black Friday Power Hour Lounge
DESCRIPTION:Stop in at Center Court at The Shops at Montebello on Black Friday for the ultimate power hour! REAL 92.3's Jay Cruz + The Cruz Show's Street Team will be serving up your mid-afternoon pick-me-up!\n\nTake a break from shopping to recharge your cell phone\, enjoy refreshments\, and enter to WIN prizes valued at a total of $5\,000.00!
X-ALT-DESC;FMTTYPE=text/html:<div class="mcd-event-description editor_output">\n<p>Stop in at Center Court at The Shops at Montebello on Black Friday for the ultimate power hour! REAL 92.3&#39\;s Jay Cruz + The Cruz Show&#39\;s Street Team will be serving up your mid-afternoon pick-me-up!</p>\n\n<p>Take a break from shopping to recharge your cell phone\, enjoy refreshments\, and enter to WIN prizes valued at a total of $5\,000.00!</p>\n</div>\n
LOCATION:The Shops at Montebello 2134 Montebello Town Center Drive Montebello\, CA 90640
UID:e.1156.3495
SEQUENCE:3
DTSTAMP:20260419T160027Z
URL:https://www.montebellochamber.org/events/details/black-friday-power-hour-lounge-3495
END:VEVENT

END:VCALENDAR
