BEGIN:VCALENDAR
VERSION:2.0
PRODID:-//ChamberMaster//Event Calendar 2.0//EN
METHOD:PUBLISH
X-PUBLISHED-TTL:P3D
REFRESH-INTERVAL:P3D
CALSCALE:GREGORIAN
BEGIN:VEVENT
DTSTART;VALUE=DATE:20200701
DTEND;VALUE=DATE:20200702
TRANSP:TRANSPARENT
X-MICROSOFT-CDO-ALLDAYEVENT:TRUE
SUMMARY:Blood Drive hosted by the Montebello Police Department & American Red Cross
DESCRIPTION:Montebello Police Department & American Red Cross is hosting a Summer Life-Saving Blood Drive!  WE'RE ALL IN THIS TOGETHER!!
X-ALT-DESC;FMTTYPE=text/html:Montebello Police Department &amp\; American Red Cross is hosting a Summer Life-Saving Blood Drive!&nbsp\; WE&#39\;RE ALL IN THIS TOGETHER!!&nbsp\;
LOCATION:The American Red Cross will have it's mobile blood drive vehicle set up in the parking lot of the police department. All COVID-19 precautions will be in place for this blood dirve.
UID:e.1156.3728
SEQUENCE:3
DTSTAMP:20260419T144005Z
URL:https://www.montebellochamber.org/events/details/blood-drive-hosted-by-the-montebello-police-department-american-red-cross-3728
END:VEVENT

END:VCALENDAR
