BEGIN:VCALENDAR
VERSION:2.0
PRODID:-//ChamberMaster//Event Calendar 2.0//EN
METHOD:PUBLISH
X-PUBLISHED-TTL:P3D
REFRESH-INTERVAL:P3D
CALSCALE:GREGORIAN
BEGIN:VEVENT
DTSTART:20180315T163000Z
DTEND:20180315T180000Z
X-MICROSOFT-CDO-ALLDAYEVENT:FALSE
SUMMARY:Blood Pressure Screenings: Pico Rivera Senior Center
DESCRIPTION:Free blood pressure screenings for seniors or anyone who needs to have their blood pressure taken. No registration required.
X-ALT-DESC;FMTTYPE=text/html:<span style="color: rgb(75\, 79\, 86)\; font-family: Helvetica\, Arial\, sans-serif\; font-size: 14px\;">Free blood pressure screenings for seniors or anyone who needs to have their blood pressure taken. No registration required.</span>
LOCATION:Pico Rivera Senior Center 9200 Mines Ave. Pico Rivera CA\, USA
UID:e.1156.2507
SEQUENCE:3
DTSTAMP:20260419T143620Z
URL:https://www.montebellochamber.org/events/details/blood-pressure-screenings-pico-rivera-senior-center-2507
END:VEVENT

END:VCALENDAR
