BEGIN:VCALENDAR
VERSION:2.0
PRODID:-//ChamberMaster//Event Calendar 2.0//EN
METHOD:PUBLISH
X-PUBLISHED-TTL:P3D
REFRESH-INTERVAL:P3D
CALSCALE:GREGORIAN
BEGIN:VEVENT
DTSTART:20190601T180000Z
DTEND:20190601T210000Z
X-MICROSOFT-CDO-ALLDAYEVENT:FALSE
SUMMARY:BLVD Walk-Grand Opening
DESCRIPTION:Join us as we celebrate the opening of BLVD Walk!! \n\nOlson Homes will debut brand-new townhomes and you're invited\, Kogi food Truck&Porch Pops will be on hand with good east and frozen treats. BLVD Walk bringing affordable for-sale housing to one of Downtown Los Angeles' most exciting commuter communites.  It's convenient location off Whittier Boulevard places residents steps from the burgeoing creative corridor that will include shops\, restaurants\, a proposed open-air food market\, start-up incubator and co-working spaces!
X-ALT-DESC;FMTTYPE=text/html:Join us as we celebrate the opening of BLVD Walk!!&nbsp\;<br />\nOlson Homes will debut brand-new townhomes and you&#39\;re invited\, Kogi food Truck&amp\;Porch Pops will be on hand with good east and frozen treats. BLVD Walk bringing affordable for-sale housing to one of Downtown Los Angeles&#39\; most exciting commuter communites.&nbsp\; It&#39\;s convenient location off Whittier Boulevard places residents steps from the burgeoing creative corridor that will include shops\, restaurants\, a proposed open-air food market\, start-up incubator and co-working spaces!&nbsp\;
LOCATION:114 N. 6th Street Montebello\, CA 90640
UID:e.1156.3334
SEQUENCE:3
DTSTAMP:20260419T130218Z
URL:https://www.montebellochamber.org/events/details/blvd-walk-grand-opening-3334
END:VEVENT

END:VCALENDAR
