BEGIN:VCALENDAR
VERSION:2.0
PRODID:-//ChamberMaster//Event Calendar 2.0//EN
METHOD:PUBLISH
X-PUBLISHED-TTL:P3D
REFRESH-INTERVAL:P3D
CALSCALE:GREGORIAN
BEGIN:VEVENT
DTSTART:20190105T183000Z
DTEND:20190105T193000Z
X-MICROSOFT-CDO-ALLDAYEVENT:FALSE
SUMMARY:Boot Camp Workout @ Angry Horse Brewing
DESCRIPTION:Join Angry Horse Fitness Club for our second Boot Camp workout with Kristen Perez on Saturday\, Jan 5th.\n\n\n\nKristen will be bringing you a fun and fresh boot camp\, focusing on exercises and techniques you can do anywhere. All fitness levels and ages are welcome!\n\n\n\nSign up to reserve your spot by leaving a comment below. The bootcamp is free!\n\n\n\nThe workout begins at 10:30AM in our parking lot. Bring your sneakers\, your water bottle and a towel if you need it. If you have a mat\, feel free to bring that as well. Please plan to arrive 5-10 minutes early so we can start on time.\n\n\n\nBorn and raised in Montebello\, Kristen Perez is a bikini pro and competition health coach. She loves strength training and has been competing since 2015\, having recently medaled in 3 categories at the 3rd Annual IPL APEX Championships.\n\n\n\nKristen believes that fitness should be a lifestyle\, one that makes you the best version of yourself while still enjoying the things you love. Her focus on health and fitness has changed her life and is passionate about helping others learn how it can change theirs!
X-ALT-DESC;FMTTYPE=text/html:<span>Join Angry Horse Fitness Club for our second Boot Camp workout with Kristen Perez on Saturday\, Jan 5th.<br />\n<br />\nKristen will be bringing you a fun and fresh boot camp\, focusing on exercises and techniques you can do anywhere. All fitness levels and ages are welcome!<br />\n<br />\nSign up to reserve your spot by leaving a comment below. The bootcamp is free!<br />\n<br />\nThe workout begins at 10:30AM in our parking lot. Bring your sneakers\, your water bottle and a towel if you need it. If you have a mat\, feel free to bring that as well. Please plan to arrive 5-10 minutes early so we can start on time.<br />\n<br />\nBorn and raised in Montebello\, Kristen Perez is a bikini pro and competition health coach. She loves strength training and has been competing since 2015\, having recently medaled in 3 categories at the 3rd Annual IPL APEX Championships.<br />\n<br />\nKristen believes that fitness should be a lifestyle\, one that makes you the best version of yourself while still enjoying the things you love. Her focus on health and fitness has changed her life and is passionate about helping others learn how it can change theirs!</span>
LOCATION:Angry Horse Brewing 603 W. Whittier Blvd. Montebello\, CA 90640
UID:e.1156.3148
SEQUENCE:3
DTSTAMP:20260419T143109Z
URL:https://www.montebellochamber.org/events/details/boot-camp-workout-angry-horse-brewing-3148
END:VEVENT

END:VCALENDAR
