BEGIN:VCALENDAR
VERSION:2.0
PRODID:-//ChamberMaster//Event Calendar 2.0//EN
METHOD:PUBLISH
X-PUBLISHED-TTL:P3D
REFRESH-INTERVAL:P3D
CALSCALE:GREGORIAN
BEGIN:VEVENT
DTSTART:20190209T183000Z
DTEND:20190209T200000Z
X-MICROSOFT-CDO-ALLDAYEVENT:FALSE
SUMMARY:Boot Camp Workout with Kristen Perez
DESCRIPTION:Join Angry Horse Fitness Club for our another Boot Camp workout with Kristen Perez at the taproom. Kristen will be bringing you a fun and fresh boot camp\, focusing on exercises and techniques you can do anywhere. The bootcamp is free. All fitness levels and ages are welcome!\n\nThe workout begins at 10:30AM. Bring your sneakers\, your water bottle and a towel if you need it. If you have a mat\, please bring that as well. Please plan to arrive 5-10 minutes early so we can start on time. \n\nKristen Perez is a bikini pro and competition health coach. She loves strength training and has been competing since 2015\, having recently medaled in 3 categories at the 3rd Annual IPL APEX Championships.\n\nKristen believes that fitness should be a lifestyle\, one that makes you the best version of yourself while still enjoying the things you love. Her focus on health and fitness has changed her life and is passionate about helping others learn how it can change theirs!\n\nAfter class\, enjoy $1 off your first pint.
X-ALT-DESC;FMTTYPE=text/html:<span style="font-family:times new roman\,serif\;"><span style="font-size:12.0pt\;">Join Angry Horse Fitness Club for our another <strong>Boot Camp workout with Kristen Perez </strong>at the taproom. Kristen will be bringing you a fun and fresh boot camp\, focusing on exercises and techniques you can do anywhere. The bootcamp is free. All fitness levels and ages are welcome!</span></span><br />\n<span style="font-family:times new roman\,serif\;"><span style="font-size:12.0pt\;">The workout begins at <strong>10:30AM</strong>. Bring your sneakers\, your water bottle and a towel if you need it. If you have a mat\, please bring that as well. Please plan to arrive 5-10 minutes early so we can start on time.&nbsp\;</span></span><br />\n<span style="font-family:times new roman\,serif\;"><span style="font-size:12.0pt\;">Kristen Perez is a bikini pro and competition health coach. She loves strength training and has been competing since 2015\, having recently medaled in 3 categories at the 3rd Annual IPL APEX Championships.</span></span><br />\n<strong><span style="font-family:times new roman\,serif\;"><span style="font-size:12.0pt\;">Kristen believes that fitness should be a lifestyle\, one that makes you the best version of yourself while still enjoying the things you love.</span></span></strong><span style="font-family:times new roman\,serif\;"><span style="font-size:12.0pt\;"> Her focus on health and fitness has changed her life and is passionate about helping others learn how it can change theirs!</span></span><br />\n<strong><span style="font-family:times new roman\,serif\;"><span style="font-size:12.0pt\;">After class\, enjoy $1 off your first pint. </span></span></strong>
LOCATION:Angry Horse Brewing 603 W. Whittier Blvd. Montebello\, CA 90640
UID:e.1156.3226
SEQUENCE:3
DTSTAMP:20260419T130216Z
URL:https://www.montebellochamber.org/events/details/boot-camp-workout-with-kristen-perez-3226
END:VEVENT

END:VCALENDAR
