BEGIN:VCALENDAR
VERSION:2.0
PRODID:-//ChamberMaster//Event Calendar 2.0//EN
METHOD:PUBLISH
X-PUBLISHED-TTL:P3D
REFRESH-INTERVAL:P3D
CALSCALE:GREGORIAN
BEGIN:VEVENT
DTSTART:20190301T013000Z
DTEND:20190301T033000Z
X-MICROSOFT-CDO-ALLDAYEVENT:FALSE
SUMMARY:Bosco Tech Admissions Information Night
DESCRIPTION:BOSCO TECH'S ADMISSIONS INFORMATION NIGHT IS FEBRUARY 28\n\n--New Biological\, Medical & Environmental Technology Major to be Spotlighted\n\n ROSEMEAD\, CA.   February 1\, 2019 - Don Bosco Technical Institute (Bosco Tech) will host an admissions information night for prospective students and their families on Thursday\, February 28\, at 5:30 p.m.\n\nMiddle and elementary school students will learn more about Bosco Tech's unique engineering and applied science curriculum while meeting instructors and current students. The school's new Biological\, Medical & Environmental Technology (BMET) program\, an addition to school's five existing STEM majors\, will be featured.\n\nInformation on summer school\, shadow visits\, and financial aid will be available. Contact Director of Admissions John Garcia at jgarcia@boscotech.edu or 626-940-2009 for information about the event or about the school. \n\nBosco Tech is an all-male Catholic high school that combines a rigorous college-preparatory program with a technology-focused education. The innovative curriculum allows students to exceed university admissions requirements while completing extensive integrated coursework in one of several applied science and engineering fields. On Niche.com's list of top boys high schools and Catholic high schools in California and the U.S.\, Bosco Tech boasts a college acceptance rate of 100 percent\, with the majority of graduates pursuing STEM-related post-secondary majors. The school is located at 1151 San Gabriel Boulevard\, Rosemead\, 91770. Visit www.boscotech.edu.
X-ALT-DESC;FMTTYPE=text/html:<strong><span style="font-family:arial\,sans-serif\;"><span style="font-size:10.0pt\;">BOSCO TECH&rsquo\;S ADMISSIONS INFORMATION NIGHT IS FEBRUARY 28<br />\n<em>--New Biological\, Medical &amp\; Environmental Technology Major to be Spotlighted</em></span></span></strong><br />\n&nbsp\;<span style="font-family:arial\,sans-serif\;"><span style="font-size:10.0pt\;">ROSEMEAD\, CA. &ndash\; February 1\, 2019 - Don Bosco Technical Institute (Bosco Tech) will host an admissions information night for prospective students and their families on Thursday\, February 28\, at 5:30 p.m.</span></span><br />\n<span style="font-family:arial\,sans-serif\;"><span style="font-size:10.0pt\;">Middle and elementary school students will learn more about Bosco Tech&rsquo\;s unique engineering and applied science curriculum while meeting instructors and current students. The school&rsquo\;s new Biological\, Medical &amp\; Environmental Technology (BMET) program\, an addition to school&rsquo\;s five existing STEM majors\, will be featured.</span></span><br />\n<span style="font-family:arial\,sans-serif\;"><span style="font-size:10.0pt\;">Information on summer school\, shadow visits\, and financial aid will be available. Contact Director of Admissions John Garcia at </span></span><span style="font-family:calibri\,sans-serif\;"><span style="font-size:11.0pt\;"><a href="mailto:jgarcia@boscotech.edu"><span style="font-family:arial\,sans-serif\;"><span style="font-size:10.0pt\;">jgarcia@boscotech.edu</span></span></a></span></span><span style="font-family:arial\,sans-serif\;"><span style="font-size:10.0pt\;"> or 626-940-2009 for information about the event or about the school. </span></span><br />\n<span style="font-family:arial\,sans-serif\;"><span style="font-size:10.0pt\;">Bosco Tech is an all-male Catholic high school that combines a rigorous college-preparatory program with a technology-focused education. The innovative curriculum allows students to exceed university admissions requirements while completing extensive integrated coursework in one of several applied science and engineering fields. On Niche.com&rsquo\;s list of top boys high schools and Catholic high schools in California and the U.S.\, Bosco Tech boasts a college acceptance rate of 100 percent\, with the majority of graduates pursuing STEM-related post-secondary majors. The school is located at 1151 San Gabriel Boulevard\, Rosemead\, 91770. Visit </span></span><span style="font-family:calibri\,sans-serif\;"><span style="font-size:11.0pt\;"><a href="http://www.boscotech.edu"><span style="font-family:arial\,sans-serif\;"><span style="font-size:10.0pt\;">www.boscotech.edu</span></span></a></span></span><span style="font-family:arial\,sans-serif\;"><span style="font-size:10.0pt\;">. </span></span><br />\n&nbsp\;
LOCATION:Don Bosco Tech 1151 San Gabriel Blvd. Rosemead\, CA 91770
UID:e.1156.3231
SEQUENCE:3
DTSTAMP:20260419T130200Z
URL:https://www.montebellochamber.org/events/details/bosco-tech-admissions-information-night-3231
END:VEVENT

END:VCALENDAR
