BEGIN:VCALENDAR
VERSION:2.0
PRODID:-//ChamberMaster//Event Calendar 2.0//EN
METHOD:PUBLISH
X-PUBLISHED-TTL:P3D
REFRESH-INTERVAL:P3D
CALSCALE:GREGORIAN
BEGIN:VEVENT
DTSTART:20190926T010000Z
DTEND:20190926T030000Z
X-MICROSOFT-CDO-ALLDAYEVENT:FALSE
SUMMARY:Bosco Tech will host Community Wide High School Night
DESCRIPTION:Don Bosco Technical Institute (Bosco Tech) will present "Gear Up for High School\, " a high school preview night for elementary and middle school students on Wednesday\, September 25\, 2019\, from 6pm to 8pm on the school's Rosemead campus.  During the complimentary event\, representatives from local Catholic private and archdiocesan high schools will provide information and answer questions about their admissions process\, curriculum and academic and extracurricular programs.  "Gear up for High School" is the perfect opportunity for prospective students and their parents to get information about the quality Catholic secondary schools in our area.  Bosco Tech is an all male Catholic High School that uniquely combines a rigorous college-preparatory program with a technology-gocused education.
X-ALT-DESC;FMTTYPE=text/html:Don Bosco Technical Institute (Bosco Tech) will present &quot\;Gear Up for High School\, &quot\; a high school preview night for elementary and middle school students on Wednesday\, September 25\, 2019\, from 6pm to 8pm on the school&#39\;s Rosemead campus.&nbsp\; During the complimentary event\, representatives from local Catholic private and archdiocesan high schools will provide information and answer questions about their admissions process\, curriculum and academic and extracurricular programs.&nbsp\; &quot\;Gear up for High School&quot\; is the perfect opportunity for prospective students and their parents to get information about the quality Catholic secondary schools in our area.&nbsp\; Bosco Tech is an all male Catholic High School that uniquely combines a rigorous college-preparatory program with a technology-gocused education.&nbsp\;&nbsp\;
LOCATION:Don Bosco Technical Institute 1151 San Gabriel Blvd. Rosemead\, CA 91770
UID:e.1156.3410
SEQUENCE:3
DTSTAMP:20260419T173221Z
URL:https://www.montebellochamber.org/events/details/bosco-tech-will-host-community-wide-high-school-night-3410
END:VEVENT

END:VCALENDAR
