BEGIN:VCALENDAR
VERSION:2.0
PRODID:-//ChamberMaster//Event Calendar 2.0//EN
METHOD:PUBLISH
X-PUBLISHED-TTL:P3D
REFRESH-INTERVAL:P3D
CALSCALE:GREGORIAN
BEGIN:VEVENT
DTSTART;VALUE=DATE:20191214
DTEND;VALUE=DATE:20191215
TRANSP:TRANSPARENT
X-MICROSOFT-CDO-ALLDAYEVENT:TRUE
SUMMARY:Breakfast with Santa
DESCRIPTION:Santa is coming to town for breakfast in Center Court!\n\nThe Shops at Montebello is partnering with the Boys & Girls Club to host a fun and festive morning with Santa! \n\nA $5 (per child) fee will get you breakfast\, a goodie bag and up close to Santa Claus! All proceeds benefit Boys & Girls Club. \n\nReservations Required at shopsatmontebello.com. \n\nSpace is Limited.
X-ALT-DESC;FMTTYPE=text/html:<div class="mcd-event-description editor_output">\n<h3>Santa is coming to town for breakfast in Center Court!</h3>\n\n<p>The Shops at Montebello is partnering with the Boys &amp\; Girls Club to host a fun and festive morning with Santa!&nbsp\;</p>\n\n<p>A $5 (per child) fee will get you breakfast\, a goodie bag and up close to Santa Claus! All proceeds benefit Boys &amp\; Girls Club.&nbsp\;</p>\n\n<p>Reservations Required at shopsatmontebello.com.&nbsp\;</p>\n\n<p>Space is Limited.</p>\n</div>\n
LOCATION:The Shops at Montebello 2134 Montebello Town Center Drive Montebello\, CA 90640
UID:e.1156.3497
SEQUENCE:3
DTSTAMP:20260419T143028Z
URL:https://www.montebellochamber.org/events/details/breakfast-with-santa-3497
END:VEVENT

END:VCALENDAR
