BEGIN:VCALENDAR
VERSION:2.0
PRODID:-//ChamberMaster//Event Calendar 2.0//EN
METHOD:PUBLISH
X-PUBLISHED-TTL:P3D
REFRESH-INTERVAL:P3D
CALSCALE:GREGORIAN
BEGIN:VEVENT
DTSTART:20181201T163000Z
DTEND:20181201T173000Z
X-MICROSOFT-CDO-ALLDAYEVENT:FALSE
SUMMARY:Breakfast with Santa - The Shops at Montebello
DESCRIPTION:Breakfast with Santa
X-ALT-DESC;FMTTYPE=text/html:Breakfast with Santa
LOCATION:The Shops at Montebello 2134 Montebello Town Center Dr. Montebello\, CA 90640 (323) 722-1776
UID:e.1156.3111
SEQUENCE:3
DTSTAMP:20260419T172814Z
URL:https://www.montebellochamber.org/events/details/breakfast-with-santa-the-shops-at-montebello-3111
END:VEVENT

END:VCALENDAR
