BEGIN:VCALENDAR
VERSION:2.0
PRODID:-//ChamberMaster//Event Calendar 2.0//EN
METHOD:PUBLISH
X-PUBLISHED-TTL:P3D
REFRESH-INTERVAL:P3D
CALSCALE:GREGORIAN
BEGIN:VEVENT
DTSTART:20150320T170000Z
DTEND:20150320T190000Z
X-MICROSOFT-CDO-ALLDAYEVENT:FALSE
SUMMARY:Breaking Ground for Carob Way Veterans Village
DESCRIPTION:Help Us Break Ground at the Future Home of Carob way Veterans Village\n\nFriday\, March 20\, 2015 10am-12pm\n\n924 Carob Way\, Montebello CA 90640\n\n\n\nPlease contact MHDC at rsvp@mhdcca.org or (323) 722-3955 to RSVP of if you have questions.
X-ALT-DESC;FMTTYPE=text/html:Help Us Break Ground at the Future Home of Carob way Veterans Village<br />\nFriday\, March 20\, 2015 10am-12pm<br />\n924 Carob Way\, Montebello CA 90640<br />\n<br />\nPlease contact MHDC at rsvp@mhdcca.org or (323) 722-3955 to RSVP of if you have questions.
LOCATION:
UID:e.1156.1378
SEQUENCE:3
DTSTAMP:20260419T185658Z
URL:https://www.montebellochamber.org/events/details/breaking-ground-for-carob-way-veterans-village-03-20-2015-1378
END:VEVENT

END:VCALENDAR
