BEGIN:VCALENDAR
VERSION:2.0
PRODID:-//ChamberMaster//Event Calendar 2.0//EN
METHOD:PUBLISH
X-PUBLISHED-TTL:P3D
REFRESH-INTERVAL:P3D
CALSCALE:GREGORIAN
BEGIN:VEVENT
DTSTART:20190126T203000Z
DTEND:20190127T004500Z
X-MICROSOFT-CDO-ALLDAYEVENT:FALSE
SUMMARY:Brewery Bike Ride
DESCRIPTION:Angry Horse Brewing - Brewery Bike Ride\n\n\n\nJoin us for our first Brewery Bike Ride!  For those who love cycling\, brewery hopping\, or both.  Wes our assistant brewer will be leading a 26.2 mile bike ride.  Starting at Angry Horse Brewing in Montebello\, we'll make our way up to Pacific Plate in Monrovia\, back down to Progress Brewing in El Monte and back to Angry Horse Brewing. \n\n\n\nCelebrate with $1 off pints (ride participants only) & grab a snack from Mamas Tacos.\n\n\n\nWhile all levels are welcome\, we recommend you have a road bike with gears.  Plan on bringing your helmet\, bike lights\, a bike lock\, a water bottle\, and sun protection.  There will be water and bathroom stops along the way.
X-ALT-DESC;FMTTYPE=text/html:Angry Horse Brewing - Brewery Bike Ride<br />\n<br />\nJoin us for our first Brewery Bike Ride!&nbsp\; For those who love cycling\, brewery hopping\, or both.&nbsp\; Wes our assistant brewer will be leading a 26.2 mile bike ride.&nbsp\; Starting at Angry Horse Brewing in Montebello\, we&#39\;ll make our way up to Pacific Plate in Monrovia\, back down to Progress Brewing in El Monte and back to Angry Horse Brewing.&nbsp\;<br />\n<br />\n<strong>Celebrate with $1 off pints</strong> (ride participants only) &amp\; grab a snack from Mamas Tacos.<br />\n<br />\nWhile all levels are welcome\, we recommend you have a road bike with gears.&nbsp\; Plan on bringing your helmet\, bike lights\, a bike lock\, a water bottle\, and sun protection.&nbsp\; There will be water and bathroom stops along the way.<br />\n&nbsp\;
LOCATION:Angry Horse Brewing 603 W. Whittier Blvd. Montebello\, CA 90640
UID:e.1156.3182
SEQUENCE:3
DTSTAMP:20260419T143159Z
URL:https://www.montebellochamber.org/events/details/brewery-bike-ride-3182
END:VEVENT

END:VCALENDAR
