BEGIN:VCALENDAR
VERSION:2.0
PRODID:-//ChamberMaster//Event Calendar 2.0//EN
METHOD:PUBLISH
X-PUBLISHED-TTL:P3D
REFRESH-INTERVAL:P3D
CALSCALE:GREGORIAN
BEGIN:VEVENT
DTSTART:20190828T013000Z
DTEND:20190828T030000Z
X-MICROSOFT-CDO-ALLDAYEVENT:FALSE
SUMMARY:Bridal Affair at Quiet Cannon
DESCRIPTION:Bridal Affair at the Quiet Cannon\n\nfeaturing\n\n\n\nOne on One with Preferred Vendors\n\nEntree Sampling\n\nFacility Tour including Gazebo location\n\nSpecial Booking Incentives\n\n\n\nEnjoy inspiration of ideas for your special day!
X-ALT-DESC;FMTTYPE=text/html:Bridal Affair at the Quiet Cannon<br />\nfeaturing<br />\n<br />\nOne on One with Preferred Vendors<br />\nEntree Sampling<br />\nFacility Tour including Gazebo location<br />\nSpecial Booking Incentives<br />\n<br />\nEnjoy inspiration of ideas for your special day!<br />\n&nbsp\;
LOCATION:Quiet Cannon 901 Via San Clemente Montebello\, CA 90640
UID:e.1156.3362
SEQUENCE:3
DTSTAMP:20260419T130404Z
URL:https://www.montebellochamber.org/events/details/bridal-affair-at-quiet-cannon-3362
END:VEVENT

END:VCALENDAR
