BEGIN:VCALENDAR
VERSION:2.0
PRODID:-//ChamberMaster//Event Calendar 2.0//EN
METHOD:PUBLISH
X-PUBLISHED-TTL:P3D
REFRESH-INTERVAL:P3D
CALSCALE:GREGORIAN
BEGIN:VEVENT
DTSTART:20180804T013000Z
DTEND:20180804T040000Z
X-MICROSOFT-CDO-ALLDAYEVENT:FALSE
SUMMARY:Brides To Be Lingerie Party
DESCRIPTION:Wedding parties\, bridesmaids and friends come Celebrate all our Brides To Be with a fun night of games\, naughty prizes and lots of samples for the honeymoon. Cocktail hour starts at 6:30.
X-ALT-DESC;FMTTYPE=text/html:Wedding parties\, bridesmaids and friends come Celebrate all our Brides To Be with a fun night of games\, naughty prizes and lots of samples for the honeymoon. Cocktail hour starts at 6:30.
LOCATION:Heavenly Choice 534 N. Montebello Blvd. Montebello\, CA 90640
UID:e.1156.2638
SEQUENCE:3
DTSTAMP:20260419T202442Z
URL:https://www.montebellochamber.org/events/details/brides-to-be-lingerie-party-2638
END:VEVENT

END:VCALENDAR
