BEGIN:VCALENDAR
VERSION:2.0
PRODID:-//ChamberMaster//Event Calendar 2.0//EN
METHOD:PUBLISH
X-PUBLISHED-TTL:P3D
REFRESH-INTERVAL:P3D
CALSCALE:GREGORIAN
BEGIN:VEVENT
DTSTART:20150129T000000Z
DTEND:20150129T000000Z
X-MICROSOFT-CDO-ALLDAYEVENT:FALSE
SUMMARY:Brookdale Uptown Whittier Ribbon Cutting Ceremony
DESCRIPTION:You are cordially invited to attend a Ribbon Cutting Ceremony and Open House for Brookdale Senior Living Solutions.\n\n\n\nEnjoy light hors d'oeuvres\, beverages\, and live entertainment\n\n\n\nRSVP To Tom Rios  at (562) 945-3904 or via email Tomas.Rios@brookdaleliving.com\n\n\n\nBrookdale Uptown Whittier\n\nIndependent Living Assisted Living\n\n13250 E. Philadephia Street\n\nWhittier\, CA 90640\n\n(562) 945-3904
X-ALT-DESC;FMTTYPE=text/html:You are cordially invited to attend a Ribbon Cutting Ceremony and Open House for Brookdale Senior Living Solutions.<br />\n<br />\nEnjoy light hors d&#39\;oeuvres\, beverages\, and live entertainment<br />\n<br />\nRSVP To Tom Rios&nbsp\; at (562) 945-3904 or via email Tomas.Rios@brookdaleliving.com<br />\n<br />\nBrookdale Uptown Whittier<br />\nIndependent Living Assisted Living<br />\n13250 E. Philadephia Street<br />\nWhittier\, CA 90640<br />\n(562) 945-3904
LOCATION:
UID:e.1156.1363
SEQUENCE:3
DTSTAMP:20260419T143812Z
URL:https://www.montebellochamber.org/events/details/brookdale-uptown-whittier-ribbon-cutting-ceremony-01-28-2015-1363
END:VEVENT

END:VCALENDAR
