BEGIN:VCALENDAR
VERSION:2.0
PRODID:-//ChamberMaster//Event Calendar 2.0//EN
METHOD:PUBLISH
X-PUBLISHED-TTL:P3D
REFRESH-INTERVAL:P3D
CALSCALE:GREGORIAN
BEGIN:VEVENT
DTSTART:20180315T000000Z
DTEND:20180315T040000Z
X-MICROSOFT-CDO-ALLDAYEVENT:FALSE
SUMMARY:Burger Shop Patio Pop Up
DESCRIPTION:Burger Shop is back for another patio pop up! \n\n\n\nTry pairing one of their juicy burgers with our new Sunday Afternoon\, cream ale. \n\n\n\nThey'll have a variety of burgers\, fries and their original bread pudding. And don't forget to BYOE (bring your own egg). They fry it up and add it to your burger.
X-ALT-DESC;FMTTYPE=text/html:<span style="color: rgb(75\, 79\, 86)\; font-family: Helvetica\, Arial\, sans-serif\; font-size: 14px\;">Burger Shop is back for another patio pop up!&nbsp\;</span><br style="color: rgb(75\, 79\, 86)\; font-family: Helvetica\, Arial\, sans-serif\; font-size: 14px\;" />\n<br style="color: rgb(75\, 79\, 86)\; font-family: Helvetica\, Arial\, sans-serif\; font-size: 14px\;" />\n<span style="color: rgb(75\, 79\, 86)\; font-family: Helvetica\, Arial\, sans-serif\; font-size: 14px\;">Try pairing one of their juicy burgers with our new Sunday Afternoon\, cream ale.&nbsp\;</span><br style="color: rgb(75\, 79\, 86)\; font-family: Helvetica\, Arial\, sans-serif\; font-size: 14px\;" />\n<br style="color: rgb(75\, 79\, 86)\; font-family: Helvetica\, Arial\, sans-serif\; font-size: 14px\;" />\n<span style="color: rgb(75\, 79\, 86)\; font-family: Helvetica\, Arial\, sans-serif\; font-size: 14px\;">They&#39\;ll have a variety of burgers\, fries and their original bread pudding. And don&#39\;t forget to BYOE (bring your own egg). They fry it up and add it to your burger.</span>
LOCATION:Angry Horse Brewing 603 W. Whittier Blvd. Montebello\, CA 90640
UID:e.1156.2501
SEQUENCE:3
DTSTAMP:20260419T143225Z
URL:https://www.montebellochamber.org/events/details/burger-shop-patio-pop-up-2501
END:VEVENT

END:VCALENDAR
