BEGIN:VCALENDAR
VERSION:2.0
PRODID:-//ChamberMaster//Event Calendar 2.0//EN
METHOD:PUBLISH
X-PUBLISHED-TTL:P3D
REFRESH-INTERVAL:P3D
CALSCALE:GREGORIAN
BEGIN:VEVENT
DTSTART:20180417T213000Z
DTEND:20180417T223000Z
X-MICROSOFT-CDO-ALLDAYEVENT:FALSE
SUMMARY:Bus Shelter Unveiling
DESCRIPTION:Come join the City of Montebello\n\nat their Bus Shelter Unveiling
X-ALT-DESC;FMTTYPE=text/html:Come join the City of Montebello<br />\nat their Bus Shelter Unveiling<br />\n&nbsp\;
LOCATION:Montebello Blvd.& Cleveland Ave. Montebello\, CA 90640
UID:e.1156.2557
SEQUENCE:3
DTSTAMP:20260419T143110Z
URL:https://www.montebellochamber.org/events/details/bus-shelter-unveiling-2557
END:VEVENT

END:VCALENDAR
