BEGIN:VCALENDAR
VERSION:2.0
PRODID:-//ChamberMaster//Event Calendar 2.0//EN
METHOD:PUBLISH
X-PUBLISHED-TTL:P3D
REFRESH-INTERVAL:P3D
CALSCALE:GREGORIAN
BEGIN:VEVENT
DTSTART:20180426T180000Z
DTEND:20180426T183000Z
X-MICROSOFT-CDO-ALLDAYEVENT:FALSE
SUMMARY:Bus Shelter Unveiling
DESCRIPTION:Come join the City of Montebello\n\nas they unveil their new brand new\n\nBus Shelters
X-ALT-DESC;FMTTYPE=text/html:Come join the City of Montebello<br />\nas they unveil their new brand new<br />\nBus Shelters
LOCATION:Montebello Blvd. and Cleveland Avenue Montebello\, CA 90640
UID:e.1156.2566
SEQUENCE:3
DTSTAMP:20260419T143110Z
URL:https://www.montebellochamber.org/events/details/bus-shelter-unveiling-2566
END:VEVENT

END:VCALENDAR
