BEGIN:VCALENDAR
VERSION:2.0
PRODID:-//ChamberMaster//Event Calendar 2.0//EN
METHOD:PUBLISH
X-PUBLISHED-TTL:P3D
REFRESH-INTERVAL:P3D
CALSCALE:GREGORIAN
BEGIN:VEVENT
DTSTART:20141209T170000Z
DTEND:20141209T180000Z
X-MICROSOFT-CDO-ALLDAYEVENT:FALSE
SUMMARY:Business 101 Series: "Holiday Safety Awareness" by Montebello Police Department
DESCRIPTION:Click here for printable flyer!
X-ALT-DESC;FMTTYPE=text/html:<a href="http://origin.library.constantcontact.com/download/get/file/1102037577796-413/Montebello+PD.pdf">Click here for printable flyer!</a>
LOCATION:
UID:e.1156.1136
SEQUENCE:3
DTSTAMP:20260419T130925Z
URL:https://www.montebellochamber.org/events/details/business-101-series-holiday-safety-awareness-by-montebello-police-department-12-09-2014-1136
END:VEVENT

END:VCALENDAR
