BEGIN:VCALENDAR
VERSION:2.0
PRODID:-//ChamberMaster//Event Calendar 2.0//EN
METHOD:PUBLISH
X-PUBLISHED-TTL:P3D
REFRESH-INTERVAL:P3D
CALSCALE:GREGORIAN
BEGIN:VEVENT
DTSTART:20130404T210000Z
DTEND:20130405T010000Z
X-MICROSOFT-CDO-ALLDAYEVENT:FALSE
SUMMARY:Business Expo 2013
DESCRIPTION:Montebello Chamber of Commerce 2013 Business Expo\n\n	\n\n	***Pride in America - Support your Local Businesses***\n\n	\n\n	"High-Power" Business Event! - Thousands attend! - Open to the Public!\n\n	Meet potential clients! - Over 70 Exhibitors! - Hurry\, Booths sell out fast!\n\n	Call Today At (323)721-1153\n\n	\n\n	 Event Sponsors:\n\n	Beverly Hospital - Cook Hill Properties - Funeraria Del Angel\n\n	Interstate Tire Distributor - XIGENT Printing\, Inc. - Rose Hills Memorial Park & Mortuary - Orbit Event Rentals - The Shops At Montebello - Camino Federal Credit Union - The Prescription Shop - El Clasificado
X-ALT-DESC;FMTTYPE=text/html:<p>\n	<strong>Montebello Chamber of Commerce <span style="color: rgb(0\, 0\, 205)\;">2013 Busi</span><span style="color: rgb(0\, 0\, 205)\;">ness Expo</span><br />\n	<br />\n	***<span style="color: rgb(0\, 0\, 205)\;">Pride</span> in <span style="color: rgb(255\, 0\, 0)\;">America</span> - <em>Support your Local Businesses***</em></strong><br />\n	<br />\n	&quot\;High-Power&quot\; Business Event! - Thousands attend! - Open to the Public!<br />\n	Meet potential clients! - Over 70 Exhibitors!&nbsp\;- Hurry\, Booths sell out fast!</p>\n<p>\n	<strong><span style="color: rgb(255\, 0\, 0)\;">Call&nbsp\;Today At (323)721-1153</span></strong><br />\n	<br />\n	&nbsp\;<strong><span style="color: rgb(0\, 0\, 205)\;">Event Sponsors:</span><br />\n	Beverly Hospital - Cook Hill Properties - Funeraria Del Angel<br />\n	Interstate Tire Distributor - XIGENT Printing\, Inc. - Rose Hills Memorial Park &amp\; Mortuary - Orbit Event Rentals - The Shops At Montebello - Camino Federal Credit Union - The Prescription Shop - El Clasificado</strong></p>\n
LOCATION:Quiet Cannon 901 Via San Clemente\, Montebello\, CA 90640
UID:e.1156.683
SEQUENCE:3
DTSTAMP:20260419T143158Z
URL:https://www.montebellochamber.org/events/details/business-expo-2013-04-04-2013-683
END:VEVENT

END:VCALENDAR
