BEGIN:VCALENDAR
VERSION:2.0
PRODID:-//ChamberMaster//Event Calendar 2.0//EN
METHOD:PUBLISH
X-PUBLISHED-TTL:P3D
REFRESH-INTERVAL:P3D
CALSCALE:GREGORIAN
BEGIN:VEVENT
DTSTART:20140425T220000Z
DTEND:20140426T020000Z
X-MICROSOFT-CDO-ALLDAYEVENT:FALSE
SUMMARY:Business Expo 2014
DESCRIPTION:Montebello Chamber of Commerce\n\n\n\nPresents Business Expo 2014\n\n\n\nBe Informed Be Inspired Be Involved\n\n\n\nCommunity & Business Event! Hurry\, Booths sell out fast! Thousands attend! Meet your local businesses! Open to the public!
X-ALT-DESC;FMTTYPE=text/html:<span style="font-family: arial\;"><strong><span style="font-size: 12px\;">Montebello Chamber of Commerce<br />\n<br />\nPresents Business Expo 2014<br />\n<br />\nBe Informed Be Inspired Be Involved</span></strong></span><br />\n<br />\n<span style="font-family:arial\;"><strong>Community &amp\; Business Event! Hurry\, Booths sell out fast! Thousands attend! Meet your local businesses! Open to the public!</strong></span><br />\n&nbsp\;
LOCATION:The Shops at Montebello 2134 Montebello Town Center\, Montebello 90640
UID:e.1156.985
SEQUENCE:3
DTSTAMP:20260419T160130Z
URL:https://www.montebellochamber.org/events/details/business-expo-2014-04-25-2014-985
END:VEVENT

END:VCALENDAR
