BEGIN:VCALENDAR
VERSION:2.0
PRODID:-//ChamberMaster//Event Calendar 2.0//EN
METHOD:PUBLISH
X-PUBLISHED-TTL:P3D
REFRESH-INTERVAL:P3D
CALSCALE:GREGORIAN
BEGIN:VEVENT
DTSTART:20161111T013000Z
DTEND:20161111T033000Z
X-MICROSOFT-CDO-ALLDAYEVENT:FALSE
SUMMARY:Business Mixer - H&R Block
DESCRIPTION:Beyond 9 to 5 Business Mixer!\n\nCome and unwind after work with us and network!
X-ALT-DESC;FMTTYPE=text/html:Beyond 9 to 5 Business Mixer!<br />\nCome and unwind after work with us and network!<br />\n&nbsp\;
LOCATION:H&R Block 323-725-3933 878 W. Beverly Blvd. Montebello\, CA 90640
UID:e.1156.1510
SEQUENCE:3
DTSTAMP:20260419T143315Z
URL:https://www.montebellochamber.org/events/details/business-mixer-h-r-block-1510
END:VEVENT

END:VCALENDAR
