BEGIN:VCALENDAR
VERSION:2.0
PRODID:-//ChamberMaster//Event Calendar 2.0//EN
METHOD:PUBLISH
X-PUBLISHED-TTL:P3D
REFRESH-INTERVAL:P3D
CALSCALE:GREGORIAN
BEGIN:VEVENT
DTSTART:20130109T150000Z
DTEND:20130109T173000Z
X-MICROSOFT-CDO-ALLDAYEVENT:FALSE
SUMMARY:Business Networking Breakfast - Stevens Steakhouse
DESCRIPTION:Montebello Chamber of Commerce \n\nIn Collaboration with\n\nCommerce Industrial Council * Bell Gardens Chamber * East LA Chamber * Monterey Park Chamber\n\n\n\nJanuary 9\, 2013\n\nBusiness Networking Breakfast\n\n\n\nBe a Table Sponsor!  No Fee!!!\n\nSimply bring 10 giveaways and a centerpiece to raffle.  You might also win $50 for Best Table PLUS a Promotional Email Blast by the participating CHAMBERS
X-ALT-DESC;FMTTYPE=text/html:<p><strong>Montebello Chamber of Commerce </strong><br />\nIn Collaboration with<br />\nCommerce Industrial Council * Bell Gardens Chamber * East LA Chamber * Monterey Park Chamber<br />\n<br />\nJanuary 9\, 2013<br />\n<strong>Business Networking Breakfast<br />\n<br />\nBe a Table Sponsor!&nbsp\; No Fee!!!</strong><br />\nSimply bring 10 giveaways and a centerpiece to raffle.&nbsp\; You might also win $50 for Best Table PLUS a Promotional Email Blast by the participating CHAMBERS</p>\n
LOCATION:Stevens Steakhouse 5332 Stevens Place Commerce\, CA 90040
UID:e.1156.675
SEQUENCE:3
DTSTAMP:20260419T185224Z
URL:https://www.montebellochamber.org/events/details/business-networking-breakfast-stevens-steakhouse-01-09-2013-675
END:VEVENT

END:VCALENDAR
