BEGIN:VCALENDAR
VERSION:2.0
PRODID:-//ChamberMaster//Event Calendar 2.0//EN
METHOD:PUBLISH
X-PUBLISHED-TTL:P3D
REFRESH-INTERVAL:P3D
CALSCALE:GREGORIAN
BEGIN:VEVENT
DTSTART:20180524T180000Z
DTEND:20180524T200000Z
X-MICROSOFT-CDO-ALLDAYEVENT:FALSE
SUMMARY:Business Networking Mixer - Office Depot
DESCRIPTION:Business Networking Mixer\n\nHosted by Office Depot Office Max\n\nComplimentary Food\, and Drinks!!!\n\nMeet & Network with other local professionals and business owners\n\nLearn about their Biz Box program\n\nWin a prize in their Raffle!
X-ALT-DESC;FMTTYPE=text/html:Business Networking Mixer<br />\nHosted by Office Depot Office Max<br />\nComplimentary Food\, and Drinks!!!<br />\nMeet &amp\; Network with other local professionals and business owners<br />\nLearn about their Biz Box program<br />\nWin a prize in their Raffle!<br />\n&nbsp\;
LOCATION:Office Depot Office Max 6446 Telegraph Road Commerce\, CA 90040
UID:e.1156.2565
SEQUENCE:3
DTSTAMP:20260419T160128Z
URL:https://www.montebellochamber.org/events/details/business-networking-mixer-office-depot-2565
END:VEVENT

END:VCALENDAR
